BEGIN:VCALENDAR
VERSION:2.0
PRODID:-//Southern California ASLA - ECPv6.15.20//NONSGML v1.0//EN
CALSCALE:GREGORIAN
METHOD:PUBLISH
X-ORIGINAL-URL:https://socal-asla.org
X-WR-CALDESC:Events for Southern California ASLA
REFRESH-INTERVAL;VALUE=DURATION:PT1H
X-Robots-Tag:noindex
X-PUBLISHED-TTL:PT1H
BEGIN:VTIMEZONE
TZID:America/Los_Angeles
BEGIN:DAYLIGHT
TZOFFSETFROM:-0800
TZOFFSETTO:-0700
TZNAME:PDT
DTSTART:20250309T100000
END:DAYLIGHT
BEGIN:STANDARD
TZOFFSETFROM:-0700
TZOFFSETTO:-0800
TZNAME:PST
DTSTART:20251102T090000
END:STANDARD
BEGIN:DAYLIGHT
TZOFFSETFROM:-0800
TZOFFSETTO:-0700
TZNAME:PDT
DTSTART:20260308T100000
END:DAYLIGHT
BEGIN:STANDARD
TZOFFSETFROM:-0700
TZOFFSETTO:-0800
TZNAME:PST
DTSTART:20261101T090000
END:STANDARD
BEGIN:DAYLIGHT
TZOFFSETFROM:-0800
TZOFFSETTO:-0700
TZNAME:PDT
DTSTART:20270314T100000
END:DAYLIGHT
BEGIN:STANDARD
TZOFFSETFROM:-0700
TZOFFSETTO:-0800
TZNAME:PST
DTSTART:20271107T090000
END:STANDARD
END:VTIMEZONE
BEGIN:VEVENT
DTSTART;TZID=America/Los_Angeles:20260423T173000
DTEND;TZID=America/Los_Angeles:20260423T193000
DTSTAMP:20260422T153903
CREATED:20260414T172828Z
LAST-MODIFIED:20260414T172828Z
UID:14149-1776965400-1776972600@socal-asla.org
SUMMARY:Countdown to Conference Tailgate at Urban Arena
DESCRIPTION:Join us for a series of casual mixers leading up to the ASLA 2026 Conference.Food & Drinks Provided!! \nRegister here:\nhttps://www.div32.com/event-details/countdown-to-conference-orange-county
URL:https://socal-asla.org/event/countdown-to-conference-tailgate-at-urban-arena/
LOCATION:Urban Arena\, 3195 Red Hill Ave\, Loft F\, Costa Mesa\, CA\, 92626\, United States
CATEGORIES:ASLA Conference on Landscape Architecture
ATTACH;FMTTYPE=image/jpeg:https://socal-asla.org/socal/wp-content/uploads/2026/04/countdown-to-conference.jpg
END:VEVENT
END:VCALENDAR