BEGIN:VCALENDAR
VERSION:2.0
PRODID:-//Southern California ASLA - ECPv6.15.20//NONSGML v1.0//EN
CALSCALE:GREGORIAN
METHOD:PUBLISH
X-ORIGINAL-URL:https://socal-asla.org
X-WR-CALDESC:Events for Southern California ASLA
REFRESH-INTERVAL;VALUE=DURATION:PT1H
X-Robots-Tag:noindex
X-PUBLISHED-TTL:PT1H
BEGIN:VTIMEZONE
TZID:America/Los_Angeles
BEGIN:DAYLIGHT
TZOFFSETFROM:-0800
TZOFFSETTO:-0700
TZNAME:PDT
DTSTART:20230312T100000
END:DAYLIGHT
BEGIN:STANDARD
TZOFFSETFROM:-0700
TZOFFSETTO:-0800
TZNAME:PST
DTSTART:20231105T090000
END:STANDARD
BEGIN:DAYLIGHT
TZOFFSETFROM:-0800
TZOFFSETTO:-0700
TZNAME:PDT
DTSTART:20240310T100000
END:DAYLIGHT
BEGIN:STANDARD
TZOFFSETFROM:-0700
TZOFFSETTO:-0800
TZNAME:PST
DTSTART:20241103T090000
END:STANDARD
BEGIN:DAYLIGHT
TZOFFSETFROM:-0800
TZOFFSETTO:-0700
TZNAME:PDT
DTSTART:20250309T100000
END:DAYLIGHT
BEGIN:STANDARD
TZOFFSETFROM:-0700
TZOFFSETTO:-0800
TZNAME:PST
DTSTART:20251102T090000
END:STANDARD
END:VTIMEZONE
BEGIN:VEVENT
DTSTART;VALUE=DATE:20240908
DTEND;VALUE=DATE:20240916
DTSTAMP:20260423T035808
CREATED:20240905T204810Z
LAST-MODIFIED:20240905T204810Z
UID:11927-1725753600-1726444799@socal-asla.org
SUMMARY:Los Angeles Climate Week
DESCRIPTION:LAEDC is excited to partner with the first-ever LA Climate Week happening Sept 8-15! With 75+ diverse events (and counting!)\, there is something for you. \nRegistrations for the inaugural LA Climate Week are now open! Dive into a week packed with hands-on workshops\, conservation projects\, networking events\, and interactive sessions that turn passion into action. Learn directly from experts\, connect with innovators\, and discover how you can make a difference in your community’s sustainable future. Learn More Here
URL:https://socal-asla.org/event/los-angeles-climate-week/
LOCATION:CA
CATEGORIES:Climate Action Committee
END:VEVENT
END:VCALENDAR