BEGIN:VCALENDAR
VERSION:2.0
PRODID:-//Southern California ASLA - ECPv6.15.20//NONSGML v1.0//EN
CALSCALE:GREGORIAN
METHOD:PUBLISH
X-ORIGINAL-URL:https://socal-asla.org
X-WR-CALDESC:Events for Southern California ASLA
REFRESH-INTERVAL;VALUE=DURATION:PT1H
X-Robots-Tag:noindex
X-PUBLISHED-TTL:PT1H
BEGIN:VTIMEZONE
TZID:America/Los_Angeles
BEGIN:DAYLIGHT
TZOFFSETFROM:-0800
TZOFFSETTO:-0700
TZNAME:PDT
DTSTART:20230312T100000
END:DAYLIGHT
BEGIN:STANDARD
TZOFFSETFROM:-0700
TZOFFSETTO:-0800
TZNAME:PST
DTSTART:20231105T090000
END:STANDARD
BEGIN:DAYLIGHT
TZOFFSETFROM:-0800
TZOFFSETTO:-0700
TZNAME:PDT
DTSTART:20240310T100000
END:DAYLIGHT
BEGIN:STANDARD
TZOFFSETFROM:-0700
TZOFFSETTO:-0800
TZNAME:PST
DTSTART:20241103T090000
END:STANDARD
BEGIN:DAYLIGHT
TZOFFSETFROM:-0800
TZOFFSETTO:-0700
TZNAME:PDT
DTSTART:20250309T100000
END:DAYLIGHT
BEGIN:STANDARD
TZOFFSETFROM:-0700
TZOFFSETTO:-0800
TZNAME:PST
DTSTART:20251102T090000
END:STANDARD
END:VTIMEZONE
BEGIN:VEVENT
DTSTART;VALUE=DATE:20240917
DTEND;VALUE=DATE:20240919
DTSTAMP:20260422T131814
CREATED:20231221T222320Z
LAST-MODIFIED:20231221T222320Z
UID:11351-1726531200-1726703999@socal-asla.org
SUMMARY:Net Zero Conference 2024
DESCRIPTION:Verdical Group is pleased to announce that our 2024 Net Zero Conference will be hosted on September 17 + 18 in Anaheim\, CA! \nJoin us for the main conference at the Anaheim Convention Center — directly across from Disneyland! — on September 18\, where we will have zero carbon learning opportunities across all industries\, exciting keynotes\, and an Expo Hall for making new connections. Shoulder events will be taking place nearby on September 17. \nStay tuned for abstract submission announcements\, registration launch\, and more!
URL:https://socal-asla.org/event/net-zero-conference-2024/
LOCATION:Anaheim Convention Center
END:VEVENT
END:VCALENDAR