BEGIN:VCALENDAR
VERSION:2.0
PRODID:-//Southern California ASLA - ECPv6.15.20//NONSGML v1.0//EN
CALSCALE:GREGORIAN
METHOD:PUBLISH
X-ORIGINAL-URL:https://socal-asla.org
X-WR-CALDESC:Events for Southern California ASLA
REFRESH-INTERVAL;VALUE=DURATION:PT1H
X-Robots-Tag:noindex
X-PUBLISHED-TTL:PT1H
BEGIN:VTIMEZONE
TZID:America/Los_Angeles
BEGIN:DAYLIGHT
TZOFFSETFROM:-0800
TZOFFSETTO:-0700
TZNAME:PDT
DTSTART:20230312T100000
END:DAYLIGHT
BEGIN:STANDARD
TZOFFSETFROM:-0700
TZOFFSETTO:-0800
TZNAME:PST
DTSTART:20231105T090000
END:STANDARD
BEGIN:DAYLIGHT
TZOFFSETFROM:-0800
TZOFFSETTO:-0700
TZNAME:PDT
DTSTART:20240310T100000
END:DAYLIGHT
BEGIN:STANDARD
TZOFFSETFROM:-0700
TZOFFSETTO:-0800
TZNAME:PST
DTSTART:20241103T090000
END:STANDARD
BEGIN:DAYLIGHT
TZOFFSETFROM:-0800
TZOFFSETTO:-0700
TZNAME:PDT
DTSTART:20250309T100000
END:DAYLIGHT
BEGIN:STANDARD
TZOFFSETFROM:-0700
TZOFFSETTO:-0800
TZNAME:PST
DTSTART:20251102T090000
END:STANDARD
END:VTIMEZONE
BEGIN:VEVENT
DTSTART;TZID=America/Los_Angeles:20240921T090000
DTEND;TZID=America/Los_Angeles:20240921T130000
DTSTAMP:20260422T055558
CREATED:20240202T194152Z
LAST-MODIFIED:20240910T203702Z
UID:11441-1726909200-1726923600@socal-asla.org
SUMMARY:UCLA - ASLA Honor and Merit Awards Jury
DESCRIPTION:Tricia is coordinating jury selection from the membership. Jury members should be full members (not Associate members) and be a member in good standing.  Students selected to present need to be ASLA student members. \n  \nASLA jurors for Sept 21st:\n\nVinita Pugal\, PLA\, ASLA\, LEED AP\, Design Director at Designodal\nCarlos Flores\, PLA\, ASLA\, Landscape Architect at the National Park Service – RTCA Program\nNanda Raghunathan\, ASLA\, Principal at TGP Inc Landscape Architecture\nCheryl Fields\, ASLA\, Senior Landscape Architect\, Cheryl Fields Landscape Architecture\nKathleen McKernin\, PLA\, ASLA\, Associate Landscape Architect\, Alta Planning + Design\, Inc
URL:https://socal-asla.org/event/ucla-asla-honor-and-merit-awards-jury/
LOCATION:A Zoom Meeting
END:VEVENT
END:VCALENDAR