BEGIN:VCALENDAR
VERSION:2.0
PRODID:-//Southern California ASLA - ECPv6.15.20//NONSGML v1.0//EN
CALSCALE:GREGORIAN
METHOD:PUBLISH
X-ORIGINAL-URL:https://socal-asla.org
X-WR-CALDESC:Events for Southern California ASLA
REFRESH-INTERVAL;VALUE=DURATION:PT1H
X-Robots-Tag:noindex
X-PUBLISHED-TTL:PT1H
BEGIN:VTIMEZONE
TZID:America/Los_Angeles
BEGIN:DAYLIGHT
TZOFFSETFROM:-0800
TZOFFSETTO:-0700
TZNAME:PDT
DTSTART:20250309T100000
END:DAYLIGHT
BEGIN:STANDARD
TZOFFSETFROM:-0700
TZOFFSETTO:-0800
TZNAME:PST
DTSTART:20251102T090000
END:STANDARD
BEGIN:DAYLIGHT
TZOFFSETFROM:-0800
TZOFFSETTO:-0700
TZNAME:PDT
DTSTART:20260308T100000
END:DAYLIGHT
BEGIN:STANDARD
TZOFFSETFROM:-0700
TZOFFSETTO:-0800
TZNAME:PST
DTSTART:20261101T090000
END:STANDARD
BEGIN:DAYLIGHT
TZOFFSETFROM:-0800
TZOFFSETTO:-0700
TZNAME:PDT
DTSTART:20270314T100000
END:DAYLIGHT
BEGIN:STANDARD
TZOFFSETFROM:-0700
TZOFFSETTO:-0800
TZNAME:PST
DTSTART:20271107T090000
END:STANDARD
END:VTIMEZONE
BEGIN:VEVENT
DTSTART;TZID=America/Los_Angeles:20260114T120000
DTEND;TZID=America/Los_Angeles:20260114T130000
DTSTAMP:20260423T011552
CREATED:20251215T234502Z
LAST-MODIFIED:20251215T234502Z
UID:13814-1768392000-1768395600@socal-asla.org
SUMMARY:Emerging Professionals Lunch & Learn - Career Pathways"
DESCRIPTION:Virtual.  Kick off 2026 with our first Emerging Professionals Career Pathways session featuring Alyssa Moffitt and her mentor Pamela Brief. Together\, they’ll share two distinct journeys into licensure and firm ownership — one early-career and one following decades of experience at Disney and other leading firms. \nJoin us for honest insights\, practical tips\, and real talk about the many directions a landscape architecture career can take \nRegister Here \n\n.
URL:https://socal-asla.org/event/emerging-professionals-lunch-learn-career-pathways/
LOCATION:CA
END:VEVENT
BEGIN:VEVENT
DTSTART;TZID=America/Los_Angeles:20260114T173000
DTEND;TZID=America/Los_Angeles:20260114T190000
DTSTAMP:20260423T011552
CREATED:20251229T183518Z
LAST-MODIFIED:20251229T183518Z
UID:13825-1768411800-1768417200@socal-asla.org
SUMMARY:January Executive Committee Meeting
DESCRIPTION:Monthly Virtual meeting of the chapter’s executive committee. \n  \n  \n 
URL:https://socal-asla.org/event/january-executive-committee-meeting/
LOCATION:CA
END:VEVENT
END:VCALENDAR