BEGIN:VCALENDAR
VERSION:2.0
PRODID:-//Southern California ASLA - ECPv6.15.20//NONSGML v1.0//EN
CALSCALE:GREGORIAN
METHOD:PUBLISH
X-ORIGINAL-URL:https://socal-asla.org
X-WR-CALDESC:Events for Southern California ASLA
REFRESH-INTERVAL;VALUE=DURATION:PT1H
X-Robots-Tag:noindex
X-PUBLISHED-TTL:PT1H
BEGIN:VTIMEZONE
TZID:America/Los_Angeles
BEGIN:DAYLIGHT
TZOFFSETFROM:-0800
TZOFFSETTO:-0700
TZNAME:PDT
DTSTART:20240310T100000
END:DAYLIGHT
BEGIN:STANDARD
TZOFFSETFROM:-0700
TZOFFSETTO:-0800
TZNAME:PST
DTSTART:20241103T090000
END:STANDARD
BEGIN:DAYLIGHT
TZOFFSETFROM:-0800
TZOFFSETTO:-0700
TZNAME:PDT
DTSTART:20250309T100000
END:DAYLIGHT
BEGIN:STANDARD
TZOFFSETFROM:-0700
TZOFFSETTO:-0800
TZNAME:PST
DTSTART:20251102T090000
END:STANDARD
BEGIN:DAYLIGHT
TZOFFSETFROM:-0800
TZOFFSETTO:-0700
TZNAME:PDT
DTSTART:20260308T100000
END:DAYLIGHT
BEGIN:STANDARD
TZOFFSETFROM:-0700
TZOFFSETTO:-0800
TZNAME:PST
DTSTART:20261101T090000
END:STANDARD
END:VTIMEZONE
BEGIN:VEVENT
DTSTART;TZID=America/Los_Angeles:20250213T173000
DTEND;TZID=America/Los_Angeles:20250213T183000
DTSTAMP:20260421T101613
CREATED:20250204T204151Z
LAST-MODIFIED:20250204T204151Z
UID:12160-1739467800-1739471400@socal-asla.org
SUMMARY:Wildfire Taskforce Summit
DESCRIPTION:Please join SoCal President-Elect\, Melanie Buffa\, ASLA and SoCal Climate Action Chair\, Alyssa Moffitt\, Assoc. ASLA for this very important hour long Summit. \nhttps://us02web.zoom.us/j/83392473730?pwd=8Twp6zdj8wrDxjYHPxF7KuNDjeh10L.1 \nDial by your location \n1 669 444 9171 \nMeeting ID: 833 9247 3730 \nPasscode: 663268
URL:https://socal-asla.org/event/wildfire-taskforce-summit/
LOCATION:Virtual
CATEGORIES:Climate Action Committee
END:VEVENT
END:VCALENDAR