BEGIN:VCALENDAR
VERSION:2.0
PRODID:-//Southern California ASLA - ECPv6.15.20//NONSGML v1.0//EN
CALSCALE:GREGORIAN
METHOD:PUBLISH
X-WR-CALNAME:Southern California ASLA
X-ORIGINAL-URL:https://socal-asla.org
X-WR-CALDESC:Events for Southern California ASLA
REFRESH-INTERVAL;VALUE=DURATION:PT1H
X-Robots-Tag:noindex
X-PUBLISHED-TTL:PT1H
BEGIN:VTIMEZONE
TZID:America/Los_Angeles
BEGIN:DAYLIGHT
TZOFFSETFROM:-0800
TZOFFSETTO:-0700
TZNAME:PDT
DTSTART:20240310T100000
END:DAYLIGHT
BEGIN:STANDARD
TZOFFSETFROM:-0700
TZOFFSETTO:-0800
TZNAME:PST
DTSTART:20241103T090000
END:STANDARD
BEGIN:DAYLIGHT
TZOFFSETFROM:-0800
TZOFFSETTO:-0700
TZNAME:PDT
DTSTART:20250309T100000
END:DAYLIGHT
BEGIN:STANDARD
TZOFFSETFROM:-0700
TZOFFSETTO:-0800
TZNAME:PST
DTSTART:20251102T090000
END:STANDARD
BEGIN:DAYLIGHT
TZOFFSETFROM:-0800
TZOFFSETTO:-0700
TZNAME:PDT
DTSTART:20260308T100000
END:DAYLIGHT
BEGIN:STANDARD
TZOFFSETFROM:-0700
TZOFFSETTO:-0800
TZNAME:PST
DTSTART:20261101T090000
END:STANDARD
END:VTIMEZONE
BEGIN:VEVENT
DTSTART;TZID=America/Los_Angeles:20250911T120000
DTEND;TZID=America/Los_Angeles:20250911T130000
DTSTAMP:20260423T035934
CREATED:20250821T152315Z
LAST-MODIFIED:20250822T181811Z
UID:12597-1757592000-1757595600@socal-asla.org
SUMMARY:SoCal ASLA Emerging Professional Virtual Meet-Up
DESCRIPTION:Join us for a fun and interactive virtual meet-and-greet with your new Emerging Professionals Co-Chairs\, Cheryl Salazar and Kevin Jo! \nThursday\, September 11 | 12:00 – 1:00 pm\nZoom link will be sent upon reservation \nWe’ll keep it light with a quick intro and then jump into a “Would You Rather?” game to help shape the future of EP events. From career-building workshops to social hangs and creative collaborations—we want to know what matters most to YOU. \nLet’s play\, connect\, and start building something great—together. \nZoom link will be sent to all registered attendees \nRESERVE HERE \n 
URL:https://socal-asla.org/event/socal-asla-emerging-professional-virtual-meet-up/
CATEGORIES:Emerging Pros Events
END:VEVENT
BEGIN:VEVENT
DTSTART;TZID=America/Los_Angeles:20250925T173000
DTEND;TZID=America/Los_Angeles:20250925T210000
DTSTAMP:20260423T035934
CREATED:20250313T210709Z
LAST-MODIFIED:20250822T182042Z
UID:12258-1758821400-1758834000@socal-asla.org
SUMMARY:Quality of Life Design Awards - Celebration
DESCRIPTION:For over 40 years\, the Quality-of-Life Design Awards has been the signature event of our chapter—an event held every other year that goes far beyond the presentation of awards. It’s a time for our community to come together in celebration of our profession\, our students\, our Fellows\, and all who contribute to the field of landscape architecture. \nThis year began in unimaginable ways\, with the devastating Los Angeles wildfires in January impacting many of our members\, friends\, and colleagues. Yet\, as landscape architects\, we have always responded with unity and resilience—just as we did after the Northridge Earthquake in 1996 and again following 9/11. \nPlease join us for this meaningful evening under the stars on the Water Court Plaza at the Omni Hotel Los Angeles. \nREGISTER HERE \n  \n \n 
URL:https://socal-asla.org/event/quality-of-life-design-awards-celebration/
LOCATION:Omni Hotel at California Plaza\, 251 South Olive\, Los Angeles\, California
CATEGORIES:Awards,Emerging Pros Events
END:VEVENT
END:VCALENDAR