BEGIN:VCALENDAR
VERSION:2.0
PRODID:-//Southern California ASLA - ECPv6.15.20//NONSGML v1.0//EN
CALSCALE:GREGORIAN
METHOD:PUBLISH
X-WR-CALNAME:Southern California ASLA
X-ORIGINAL-URL:https://socal-asla.org
X-WR-CALDESC:Events for Southern California ASLA
REFRESH-INTERVAL;VALUE=DURATION:PT1H
X-Robots-Tag:noindex
X-PUBLISHED-TTL:PT1H
BEGIN:VTIMEZONE
TZID:America/Los_Angeles
BEGIN:DAYLIGHT
TZOFFSETFROM:-0800
TZOFFSETTO:-0700
TZNAME:PDT
DTSTART:20230312T100000
END:DAYLIGHT
BEGIN:STANDARD
TZOFFSETFROM:-0700
TZOFFSETTO:-0800
TZNAME:PST
DTSTART:20231105T090000
END:STANDARD
BEGIN:DAYLIGHT
TZOFFSETFROM:-0800
TZOFFSETTO:-0700
TZNAME:PDT
DTSTART:20240310T100000
END:DAYLIGHT
BEGIN:STANDARD
TZOFFSETFROM:-0700
TZOFFSETTO:-0800
TZNAME:PST
DTSTART:20241103T090000
END:STANDARD
BEGIN:DAYLIGHT
TZOFFSETFROM:-0800
TZOFFSETTO:-0700
TZNAME:PDT
DTSTART:20250309T100000
END:DAYLIGHT
BEGIN:STANDARD
TZOFFSETFROM:-0700
TZOFFSETTO:-0800
TZNAME:PST
DTSTART:20251102T090000
END:STANDARD
END:VTIMEZONE
BEGIN:VEVENT
DTSTART;TZID=America/Los_Angeles:20240722T180000
DTEND;TZID=America/Los_Angeles:20240722T213000
DTSTAMP:20260422T194653
CREATED:20240722T162654Z
LAST-MODIFIED:20240722T162654Z
UID:11820-1721671200-1721683800@socal-asla.org
SUMMARY:Dodger Night with ASLA SoCal - SOLD OUT!
DESCRIPTION:
URL:https://socal-asla.org/event/dodger-night-with-asla-socal-sold-out/
LOCATION:CA
END:VEVENT
BEGIN:VEVENT
DTSTART;TZID=America/Los_Angeles:20240725T120000
DTEND;TZID=America/Los_Angeles:20240725T130000
DTSTAMP:20260422T194653
CREATED:20240112T175135Z
LAST-MODIFIED:20240112T175135Z
UID:11397-1721908800-1721912400@socal-asla.org
SUMMARY:Emerging Professionals - Bi Monthly Virtual Meeting/Lunch Bunch Conversation
DESCRIPTION:Topic:  Advocacy 101 for Emerging Professionals
URL:https://socal-asla.org/event/emerging-professionals-bi-monthly-virtual-meeting-lunch-bunch-conversation-2/
LOCATION:Virtual
CATEGORIES:Emerging Pros Events
END:VEVENT
BEGIN:VEVENT
DTSTART;TZID=America/Los_Angeles:20240727T103000
DTEND;TZID=America/Los_Angeles:20240727T140000
DTSTAMP:20260422T194653
CREATED:20240722T161709Z
LAST-MODIFIED:20240722T162041Z
UID:11811-1722076200-1722088800@socal-asla.org
SUMMARY:Virginia Robinson Gardens Tour and Presentation
DESCRIPTION:Honoring ASLA SoCal’s HALS Project (Historic American Landscape Survey) \nGuided Tour of House & Gardens; Free Parking & Shuttle to Venue; Lunch on the Pool Terrace and HALS Team Presentations. \nADVANCE RESERVATIONS REQUIRED. We are celebrating the HALS project and volunteers led by ASLA SoCal’s very own Alison Terry\, PLA\, HALS Committee Chair over 3.5 years! Lunch is provided with registration! \nRegistration is required: https://www.eventbrite.com/e/virginia-robinson-gardens-tour-tickets-927584880347 \nFull announcement here: HALS-VRG-Visit-05.jpe \n  \nScreenshot
URL:https://socal-asla.org/event/virginia-robinson-gardens-tour-and-presentation/
LOCATION:CA
END:VEVENT
END:VCALENDAR