BEGIN:VCALENDAR
VERSION:2.0
PRODID:-//Southern California ASLA - ECPv6.15.20//NONSGML v1.0//EN
CALSCALE:GREGORIAN
METHOD:PUBLISH
X-ORIGINAL-URL:https://socal-asla.org
X-WR-CALDESC:Events for Southern California ASLA
REFRESH-INTERVAL;VALUE=DURATION:PT1H
X-Robots-Tag:noindex
X-PUBLISHED-TTL:PT1H
BEGIN:VTIMEZONE
TZID:America/Los_Angeles
BEGIN:DAYLIGHT
TZOFFSETFROM:-0800
TZOFFSETTO:-0700
TZNAME:PDT
DTSTART:20230312T100000
END:DAYLIGHT
BEGIN:STANDARD
TZOFFSETFROM:-0700
TZOFFSETTO:-0800
TZNAME:PST
DTSTART:20231105T090000
END:STANDARD
BEGIN:DAYLIGHT
TZOFFSETFROM:-0800
TZOFFSETTO:-0700
TZNAME:PDT
DTSTART:20240310T100000
END:DAYLIGHT
BEGIN:STANDARD
TZOFFSETFROM:-0700
TZOFFSETTO:-0800
TZNAME:PST
DTSTART:20241103T090000
END:STANDARD
BEGIN:DAYLIGHT
TZOFFSETFROM:-0800
TZOFFSETTO:-0700
TZNAME:PDT
DTSTART:20250309T100000
END:DAYLIGHT
BEGIN:STANDARD
TZOFFSETFROM:-0700
TZOFFSETTO:-0800
TZNAME:PST
DTSTART:20251102T090000
END:STANDARD
END:VTIMEZONE
BEGIN:VEVENT
DTSTART;VALUE=DATE:20240801
DTEND;VALUE=DATE:20240813
DTSTAMP:20260422T170107
CREATED:20240729T173529Z
LAST-MODIFIED:20240729T173529Z
UID:11834-1722470400-1723507199@socal-asla.org
SUMMARY:No Chapter Programming - Summer Schedule
DESCRIPTION:
URL:https://socal-asla.org/event/no-chapter-programming-summer-schedule/
LOCATION:CA
END:VEVENT
BEGIN:VEVENT
DTSTART;TZID=America/Los_Angeles:20240813T120000
DTEND;TZID=America/Los_Angeles:20240813T130000
DTSTAMP:20260422T170107
CREATED:20240717T223747Z
LAST-MODIFIED:20240809T174520Z
UID:11804-1723550400-1723554000@socal-asla.org
SUMMARY:ASLA SoCal Emerging Professional Committee (EPC) - August Virtual Lunch Bunch
DESCRIPTION:Topic – Advocacy 101: An Introduction to Advocacy in Landscape Architecture for Emerging Professionals\n\nThis virtual lunch session focuses on an introduction to advocacy for Landscape Architecture Emerging Professionals\, brought to you by the ASLA SoCal EPC! We are excited to host a presentation\, conversation\, and Q+A with: Stephanie Landregan and Emily Gabel-Luddy.\n\nStephanie Landregan\, FASLA\, PLA\, MSPM\, LEED BD+C is the Program Director at UCLA Extension Landscape Architecture and our California Council of ASLA Southern California Council Director\, and was previously the National VP of Government Affairs for ASLA. Emily Gabel-Luddy\, FASLA is an Instructor at UCLA Extension\, and the former Mayor of the City of Burbank (2013-2014 and 2018-2019)\, she was also the former Director of the Urban Design Studio at LA City Planning and a ’91 Loeb Fellow at Harvard GSD.\n\nWe are honored to have Stephanie and Emily join us in conversation to discuss topics related to advocacy\, and hope you join us on Tuesday August 13th from 12-1pm Pacific to discuss: What is advocacy? Why is it important to you\, our Landscape Architecture Profession\, and our communities? How can we can all advocate and get more involved? Registration is not required\, this event is free and open to all to join – Zoom information below:\n  \nASLA SoCal is inviting you to a scheduled Zoom meeting.\nTopic: ASLA SoCal Emerging Professionals Committee (EPC): August Lunch Bunch – Advocacy\nTime: Aug 13\, 2024 12:00 PM Pacific Time (US and Canada)Join Zoom Meeting\nhttps://us02web.zoom.us/j/81875875576?pwd=GR7GtusObfDyZE8gaysKXHesAnFxKR.1Meeting ID: 818 7587 5576\nPasscode: ASLAEPC
URL:https://socal-asla.org/event/emerging-professionals-virtual-lunch-bunch/
LOCATION:Virtual
END:VEVENT
BEGIN:VEVENT
DTSTART;VALUE=DATE:20240814
DTEND;VALUE=DATE:20240901
DTSTAMP:20260422T170107
CREATED:20240729T173722Z
LAST-MODIFIED:20240729T173722Z
UID:11836-1723593600-1725148799@socal-asla.org
SUMMARY:No Chapter Programming - Summer Schedule
DESCRIPTION:
URL:https://socal-asla.org/event/no-chapter-programming-summer-schedule-2/
LOCATION:CA
END:VEVENT
END:VCALENDAR